BEGIN:VCALENDAR
VERSION:2.0
PRODID:-//DrumNexus - ECPv6.15.20//NONSGML v1.0//EN
CALSCALE:GREGORIAN
METHOD:PUBLISH
X-WR-CALNAME:DrumNexus
X-ORIGINAL-URL:https://drumnexus.co
X-WR-CALDESC:Events for DrumNexus
REFRESH-INTERVAL;VALUE=DURATION:PT1H
X-Robots-Tag:noindex
X-PUBLISHED-TTL:PT1H
BEGIN:VTIMEZONE
TZID:UTC
BEGIN:STANDARD
TZOFFSETFROM:+0000
TZOFFSETTO:+0000
TZNAME:UTC
DTSTART:20250101T000000
END:STANDARD
END:VTIMEZONE
BEGIN:VEVENT
DTSTART;TZID=UTC:20260426T150000
DTEND;TZID=UTC:20260426T163000
DTSTAMP:20260422T125006
CREATED:20260115T200108Z
LAST-MODIFIED:20260115T200202Z
UID:2716-1777215600-1777221000@drumnexus.co
SUMMARY:Community Drum Circle @ Schenley Plaza
DESCRIPTION:Free Event | All Ages | Instruments Provided \nRain or Shine Event!
URL:https://drumnexus.co/event/community-drum-circle-schenley-plaza/
LOCATION:Schenley Plaza\, 4100 Forbes Ave\, Pittsburgh\, PA\, 5260\, United States
END:VEVENT
BEGIN:VEVENT
DTSTART;TZID=UTC:20260516T160000
DTEND;TZID=UTC:20260516T173000
DTSTAMP:20260422T125006
CREATED:20260115T142822Z
LAST-MODIFIED:20260115T142956Z
UID:2686-1778947200-1778952600@drumnexus.co
SUMMARY:Community Drum Circle @ 3RoC
DESCRIPTION:Free Event | All Ages | Drums Provided
URL:https://drumnexus.co/event/community-drum-circle-3roc/
LOCATION:3 Rivers Outdoor Company\, 1130 S Braddock Ave\, Pittsburgh\, PA\, 15218
END:VEVENT
BEGIN:VEVENT
DTSTART;TZID=UTC:20260606T120000
DTEND;TZID=UTC:20260606T140000
DTSTAMP:20260422T125006
CREATED:20260112T210014Z
LAST-MODIFIED:20260122T040725Z
UID:2567-1780747200-1780754400@drumnexus.co
SUMMARY:Community Drum Circle @ Oak Hollow Park
DESCRIPTION:Free Event | All Ages | Drums Provided!
URL:https://drumnexus.co/event/community-drum-circle-12/
LOCATION:Oak Hollow Park Pine Pavilion\, 2130 Timothy Dr\, North Huntingdon\, PA 15642
END:VEVENT
BEGIN:VEVENT
DTSTART;TZID=UTC:20260620T160000
DTEND;TZID=UTC:20260620T173000
DTSTAMP:20260422T125006
CREATED:20260115T142840Z
LAST-MODIFIED:20260115T142941Z
UID:2688-1781971200-1781976600@drumnexus.co
SUMMARY:Community Drum Circle @ 3RoC
DESCRIPTION:Free Event | All Ages | Drums Provided!
URL:https://drumnexus.co/event/community-drum-circle-12-2/
LOCATION:3 Rivers Outdoor Company\, 1130 S Braddock Ave\, Pittsburgh\, PA\, 15218
END:VEVENT
BEGIN:VEVENT
DTSTART;TZID=UTC:20260718T160000
DTEND;TZID=UTC:20260718T173000
DTSTAMP:20260422T125006
CREATED:20260115T143004Z
LAST-MODIFIED:20260115T143024Z
UID:2693-1784390400-1784395800@drumnexus.co
SUMMARY:Community Drum Circle @ 3RoC
DESCRIPTION:Free Event | All Ages | Drums Provided!
URL:https://drumnexus.co/event/community-drum-circle-12-2-2/
LOCATION:3 Rivers Outdoor Company\, 1130 S Braddock Ave\, Pittsburgh\, PA\, 15218
END:VEVENT
BEGIN:VEVENT
DTSTART;TZID=UTC:20260725T120000
DTEND;TZID=UTC:20260725T140000
DTSTAMP:20260422T125006
CREATED:20260112T210031Z
LAST-MODIFIED:20260122T040712Z
UID:2569-1784980800-1784988000@drumnexus.co
SUMMARY:Community Drum Circle @ Oak Hollow Park
DESCRIPTION:Free Event | All Ages | Drums Provided!
URL:https://drumnexus.co/event/community-drum-circle-17/
LOCATION:Oak Hollow Park Pine Pavilion\, 2130 Timothy Dr\, North Huntingdon\, PA 15642
END:VEVENT
BEGIN:VEVENT
DTSTART;TZID=UTC:20260807T180000
DTEND;TZID=UTC:20260807T193000
DTSTAMP:20260422T125006
CREATED:20260312T163948Z
LAST-MODIFIED:20260312T163948Z
UID:2846-1786125600-1786131000@drumnexus.co
SUMMARY:Community Drum Circle @ Millbrook Marsh
DESCRIPTION:Free Event | All Ages | Drums Provided!
URL:https://drumnexus.co/event/community-drum-circle-millbrook-marsh/
LOCATION:Millbrook Marsh\, 548 Puddintown Rd\, State College\, 16801\, 16801\, United States
END:VEVENT
BEGIN:VEVENT
DTSTART;TZID=UTC:20260815T160000
DTEND;TZID=UTC:20260815T173000
DTSTAMP:20260422T125006
CREATED:20260115T143039Z
LAST-MODIFIED:20260115T143056Z
UID:2697-1786809600-1786815000@drumnexus.co
SUMMARY:Community Drum Circle @ 3RoC
DESCRIPTION:Free Event | All Ages | Drums Provided!
URL:https://drumnexus.co/event/community-drum-circle-12-2-2-2/
LOCATION:3 Rivers Outdoor Company\, 1130 S Braddock Ave\, Pittsburgh\, PA\, 15218
END:VEVENT
BEGIN:VEVENT
DTSTART;TZID=UTC:20260919T160000
DTEND;TZID=UTC:20260919T173000
DTSTAMP:20260422T125006
CREATED:20260115T143103Z
LAST-MODIFIED:20260115T143120Z
UID:2701-1789833600-1789839000@drumnexus.co
SUMMARY:Community Drum Circle @ 3RoC
DESCRIPTION:Free Event | All Ages | Drums Provided!
URL:https://drumnexus.co/event/community-drum-circle-12-2-2-2-2/
LOCATION:3 Rivers Outdoor Company\, 1130 S Braddock Ave\, Pittsburgh\, PA\, 15218
END:VEVENT
BEGIN:VEVENT
DTSTART;VALUE=DATE:20260926
DTEND;VALUE=DATE:20260927
DTSTAMP:20260422T125006
CREATED:20260312T164531Z
LAST-MODIFIED:20260312T164531Z
UID:2851-1790380800-1790467199@drumnexus.co
SUMMARY:DRUM FEST PGH!!!
DESCRIPTION:visitpittsburgh.com/events/drum-fest
URL:https://drumnexus.co/event/drum-fest-pgh/
END:VEVENT
BEGIN:VEVENT
DTSTART;TZID=UTC:20261017T160000
DTEND;TZID=UTC:20261017T173000
DTSTAMP:20260422T125006
CREATED:20260115T143131Z
LAST-MODIFIED:20260115T143145Z
UID:2705-1792252800-1792258200@drumnexus.co
SUMMARY:Community Drum Circle @ 3RoC
DESCRIPTION:Free Event | All Ages | Drums Provided!
URL:https://drumnexus.co/event/community-drum-circle-12-2-2-2-2-2/
LOCATION:3 Rivers Outdoor Company\, 1130 S Braddock Ave\, Pittsburgh\, PA\, 15218
END:VEVENT
END:VCALENDAR